BEGIN:VCALENDAR
VERSION:2.0
PRODID:-//Mountain Sentinels - ECPv6.15.20//NONSGML v1.0//EN
CALSCALE:GREGORIAN
METHOD:PUBLISH
X-WR-CALNAME:Mountain Sentinels
X-ORIGINAL-URL:https://mountainsentinels.org
X-WR-CALDESC:Events for Mountain Sentinels
REFRESH-INTERVAL;VALUE=DURATION:PT1H
X-Robots-Tag:noindex
X-PUBLISHED-TTL:PT1H
BEGIN:VTIMEZONE
TZID:America/Denver
BEGIN:DAYLIGHT
TZOFFSETFROM:-0700
TZOFFSETTO:-0600
TZNAME:MDT
DTSTART:20220313T090000
END:DAYLIGHT
BEGIN:STANDARD
TZOFFSETFROM:-0600
TZOFFSETTO:-0700
TZNAME:MST
DTSTART:20221106T080000
END:STANDARD
BEGIN:DAYLIGHT
TZOFFSETFROM:-0700
TZOFFSETTO:-0600
TZNAME:MDT
DTSTART:20230312T090000
END:DAYLIGHT
BEGIN:STANDARD
TZOFFSETFROM:-0600
TZOFFSETTO:-0700
TZNAME:MST
DTSTART:20231105T080000
END:STANDARD
BEGIN:DAYLIGHT
TZOFFSETFROM:-0700
TZOFFSETTO:-0600
TZNAME:MDT
DTSTART:20240310T090000
END:DAYLIGHT
BEGIN:STANDARD
TZOFFSETFROM:-0600
TZOFFSETTO:-0700
TZNAME:MST
DTSTART:20241103T080000
END:STANDARD
BEGIN:DAYLIGHT
TZOFFSETFROM:-0700
TZOFFSETTO:-0600
TZNAME:MDT
DTSTART:20250309T090000
END:DAYLIGHT
BEGIN:STANDARD
TZOFFSETFROM:-0600
TZOFFSETTO:-0700
TZNAME:MST
DTSTART:20251102T080000
END:STANDARD
BEGIN:DAYLIGHT
TZOFFSETFROM:-0700
TZOFFSETTO:-0600
TZNAME:MDT
DTSTART:20260308T090000
END:DAYLIGHT
BEGIN:STANDARD
TZOFFSETFROM:-0600
TZOFFSETTO:-0700
TZNAME:MST
DTSTART:20261101T080000
END:STANDARD
END:VTIMEZONE
BEGIN:VTIMEZONE
TZID:Asia/Dubai
BEGIN:STANDARD
TZOFFSETFROM:+0400
TZOFFSETTO:+0400
TZNAME:+04
DTSTART:20220101T000000
END:STANDARD
END:VTIMEZONE
BEGIN:VTIMEZONE
TZID:Europe/Brussels
BEGIN:DAYLIGHT
TZOFFSETFROM:+0100
TZOFFSETTO:+0200
TZNAME:CEST
DTSTART:20230326T010000
END:DAYLIGHT
BEGIN:STANDARD
TZOFFSETFROM:+0200
TZOFFSETTO:+0100
TZNAME:CET
DTSTART:20231029T010000
END:STANDARD
BEGIN:DAYLIGHT
TZOFFSETFROM:+0100
TZOFFSETTO:+0200
TZNAME:CEST
DTSTART:20240331T010000
END:DAYLIGHT
BEGIN:STANDARD
TZOFFSETFROM:+0200
TZOFFSETTO:+0100
TZNAME:CET
DTSTART:20241027T010000
END:STANDARD
BEGIN:DAYLIGHT
TZOFFSETFROM:+0100
TZOFFSETTO:+0200
TZNAME:CEST
DTSTART:20250330T010000
END:DAYLIGHT
BEGIN:STANDARD
TZOFFSETFROM:+0200
TZOFFSETTO:+0100
TZNAME:CET
DTSTART:20251026T010000
END:STANDARD
END:VTIMEZONE
BEGIN:VTIMEZONE
TZID:Asia/Shanghai
BEGIN:STANDARD
TZOFFSETFROM:+0800
TZOFFSETTO:+0800
TZNAME:CST
DTSTART:20230101T000000
END:STANDARD
END:VTIMEZONE
BEGIN:VTIMEZONE
TZID:America/Lima
BEGIN:STANDARD
TZOFFSETFROM:-0500
TZOFFSETTO:-0500
TZNAME:-05
DTSTART:20230101T000000
END:STANDARD
END:VTIMEZONE
BEGIN:VEVENT
DTSTART;TZID=America/Denver:20230919T080000
DTEND;TZID=America/Denver:20230919T090000
DTSTAMP:20260424T105734
CREATED:20230908T175002Z
LAST-MODIFIED:20230908T175925Z
UID:1827-1695110400-1695114000@mountainsentinels.org
SUMMARY:Alliance Office Hours (Tuesday)
DESCRIPTION:Everyone is welcome to drop in to chat with the Mountain Sentinels Alliance program manager over Zoom. Ask questions\, present ideas\, or just say hello. \nTopic: Mountain Sentinels Alliance Office Hours- Everyone welcome! \nTime: September 19\, 2023 08:00 AM Mountain Time | Find your time zone \nJoin Zoom Meeting\nhttps://zoom.us/j/92870584487 \nMeeting ID: 928 7058 4487\nOne tap mobile\n+17193594580\,\,92870584487# US\n+16694449171\,\,92870584487# US \nDial by your location\n+1 719 359 4580 US\n+1 669 444 9171 US\n+1 669 900 6833 US (San Jose)\n+1 253 205 0468 US\n+1 253 215 8782 US (Tacoma)\n+1 346 248 7799 US (Houston)\n+1 305 224 1968 US\n+1 309 205 3325 US\n+1 312 626 6799 US (Chicago)\n+1 360 209 5623 US\n+1 386 347 5053 US\n+1 507 473 4847 US\n+1 564 217 2000 US\n+1 646 558 8656 US (New York)\n+1 646 931 3860 US\n+1 689 278 1000 US\n+1 301 715 8592 US (Washington DC)\nMeeting ID: 928 7058 4487 \nFind your local number 
URL:https://mountainsentinels.org/event/alliance-office-hours-tuesday-14/
LOCATION:Online
ORGANIZER;CN="Mountain Sentinels Alliance":MAILTO:info@moutainsentinels.org
END:VEVENT
BEGIN:VEVENT
DTSTART;VALUE=DATE:20231130
DTEND;VALUE=DATE:20231213
DTSTAMP:20260424T105734
CREATED:20231012T152719Z
LAST-MODIFIED:20231012T152719Z
UID:1836-1701302400-1702425599@mountainsentinels.org
SUMMARY:UNFCC COP28
DESCRIPTION:
URL:https://mountainsentinels.org/event/unfcc-cop28/
END:VEVENT
BEGIN:VEVENT
DTSTART;TZID=Europe/Brussels:20240125T150000
DTEND;TZID=Europe/Brussels:20240125T154500
DTSTAMP:20260424T105734
CREATED:20240124T155742Z
LAST-MODIFIED:20240124T155742Z
UID:1922-1706194800-1706197500@mountainsentinels.org
SUMMARY:GMBA Biodiversity Spotlight: The Flora of the Alborz Mountain Range
DESCRIPTION:
URL:https://mountainsentinels.org/event/gmba-biodiversity-spotlight-the-flora-of-the-alborz-mountain-range/
LOCATION:Online
CATEGORIES:Calendar Event
END:VEVENT
BEGIN:VEVENT
DTSTART;TZID=America/Denver:20240628T090000
DTEND;TZID=America/Denver:20240628T100000
DTSTAMP:20260424T105734
CREATED:20240611T175652Z
LAST-MODIFIED:20240612T163143Z
UID:1961-1719565200-1719568800@mountainsentinels.org
SUMMARY:2024 Fellows Opportunities Webinar
DESCRIPTION:Register now!Join the Mountain Sentinels leadership team for a virtual discussion of 2024 Mountain Sentinels Fellows opportunities! \nThis Fellowship is developed specifically for individuals living\, working\, or raised in a mountain community\, particularly those underserved or underrepresented in science and STEM. We particularly encourage projects that elevate community voices and address community needs in mountains\, and build/enhance long-term relationships with mountain communities. The Fellowship offers leadership\, mentorship\, research and educational opportunities to students\, youth\, and early career practitioners both within and outside of academia. \nThe webinar will first discuss opportunities\, benefits of becoming a Fellow\, and how to apply. Then\, we will open a Q & A where participants may ask questions or discuss their Fellowship ideas. Find this event in your time zone. 
URL:https://mountainsentinels.org/event/2024-fellows-opportunities-webinar/
LOCATION:Online
CATEGORIES:Calendar Event
END:VEVENT
BEGIN:VEVENT
DTSTART;VALUE=DATE:20241111
DTEND;VALUE=DATE:20241116
DTSTAMP:20260424T105734
CREATED:20240925T144631Z
LAST-MODIFIED:20240925T144631Z
UID:2040-1731283200-1731715199@mountainsentinels.org
SUMMARY:International Mountain Forum
DESCRIPTION:
URL:https://mountainsentinels.org/event/international-mountain-forum/
LOCATION:Chengdu\, China\, Chengdu\, China
END:VEVENT
BEGIN:VEVENT
DTSTART;VALUE=DATE:20241207
DTEND;VALUE=DATE:20241211
DTSTAMP:20260424T105734
CREATED:20240529T111103Z
LAST-MODIFIED:20241004T200757Z
UID:1952-1733529600-1733875199@mountainsentinels.org
SUMMARY:Moving Mountains Summit (Hatun Tinkuy 2024)
DESCRIPTION:The meeting in Peru is organized by Instituto de Montaña (IdM) in collaboration with the Asociación Bartolome Aripaylla – Ayacucho and the Mountain Sentinels Network based at Colorado State University\, USA. Hatun Tinkuy 2024 will take place in the city of Huaraz in Ancash Province\, Peru. \nThis event is an exciting opportunity to work together to advance sustainable mountain futures and develop a worldwide\, mountain-focused network-of-networks that is rooted in local / Indigenous knowledges and practices. The Summit will focus on braiding local/Indigenous knowledges with western science\, nature-based solutions to climate change\, and local governance.
URL:https://mountainsentinels.org/event/moving-mountains-summit-2024/
LOCATION:Huaraz\, Peru\, South America\, Peru
CATEGORIES:Calendar Event
END:VEVENT
BEGIN:VEVENT
DTSTART;TZID=America/Denver:20251106T090000
DTEND;TZID=America/Denver:20251106T100000
DTSTAMP:20260424T105734
CREATED:20251031T172035Z
LAST-MODIFIED:20251031T172154Z
UID:2235-1762419600-1762423200@mountainsentinels.org
SUMMARY:Virtual Coffee: The Mountain Agenda and COP30 - A Coordinated Global Policy for Mountains & Youth Voices
DESCRIPTION:
URL:https://mountainsentinels.org/event/virtual-coffee-the-mountain-agenda-and-cop30-a-coordinated-global-policy-for-mountains-youth-voices/
END:VEVENT
END:VCALENDAR